BEGIN:VCALENDAR
VERSION:2.0
PRODID:-//Ski-Club Weil am Rhein - ECPv6.15.11//NONSGML v1.0//EN
CALSCALE:GREGORIAN
METHOD:PUBLISH
X-WR-CALNAME:Ski-Club Weil am Rhein
X-ORIGINAL-URL:https://www.skiclub-weil-am-rhein.de
X-WR-CALDESC:Veranstaltungen für Ski-Club Weil am Rhein
REFRESH-INTERVAL;VALUE=DURATION:PT1H
X-Robots-Tag:noindex
X-PUBLISHED-TTL:PT1H
BEGIN:VTIMEZONE
TZID:Europe/Berlin
BEGIN:DAYLIGHT
TZOFFSETFROM:+0100
TZOFFSETTO:+0200
TZNAME:CEST
DTSTART:20260329T010000
END:DAYLIGHT
BEGIN:STANDARD
TZOFFSETFROM:+0200
TZOFFSETTO:+0100
TZNAME:CET
DTSTART:20261025T010000
END:STANDARD
BEGIN:DAYLIGHT
TZOFFSETFROM:+0100
TZOFFSETTO:+0200
TZNAME:CEST
DTSTART:20270328T010000
END:DAYLIGHT
BEGIN:STANDARD
TZOFFSETFROM:+0200
TZOFFSETTO:+0100
TZNAME:CET
DTSTART:20271031T010000
END:STANDARD
BEGIN:DAYLIGHT
TZOFFSETFROM:+0100
TZOFFSETTO:+0200
TZNAME:CEST
DTSTART:20280326T010000
END:DAYLIGHT
BEGIN:STANDARD
TZOFFSETFROM:+0200
TZOFFSETTO:+0100
TZNAME:CET
DTSTART:20281029T010000
END:STANDARD
END:VTIMEZONE
BEGIN:VEVENT
DTSTART;TZID=Europe/Berlin:20270129T160000
DTEND;TZID=Europe/Berlin:20270131T200000
DTSTAMP:20260422T220150
CREATED:20260401T072022Z
LAST-MODIFIED:20260401T152025Z
UID:10193-1801238400-1801425600@www.skiclub-weil-am-rhein.de
SUMMARY:Skilager Adelboden 2027
DESCRIPTION:Unser Verein geht wieder gemeinsam ins Skilager! Freut euch auf ein sportliches Winterwochenende in Adelboden mit viel Gemeinschaft\, Bewegung und Hüttenleben – für Jung und Alt\, Familien\, Jugendliche und Erwachsene. \n\n\n\nsave-the-date – weitere Infos folgen.
URL:https://www.skiclub-weil-am-rhein.de/veranstaltung/skilager-adelboden-2027/
CATEGORIES:Programm 2026,Programm 2027
END:VEVENT
END:VCALENDAR