BEGIN:VCALENDAR
VERSION:2.0
PRODID:-//Ski-Club Weil am Rhein - ECPv6.15.11//NONSGML v1.0//EN
CALSCALE:GREGORIAN
METHOD:PUBLISH
X-WR-CALNAME:Ski-Club Weil am Rhein
X-ORIGINAL-URL:https://www.skiclub-weil-am-rhein.de
X-WR-CALDESC:Veranstaltungen für Ski-Club Weil am Rhein
REFRESH-INTERVAL;VALUE=DURATION:PT1H
X-Robots-Tag:noindex
X-PUBLISHED-TTL:PT1H
BEGIN:VTIMEZONE
TZID:Europe/Berlin
BEGIN:DAYLIGHT
TZOFFSETFROM:+0100
TZOFFSETTO:+0200
TZNAME:CEST
DTSTART:20250330T010000
END:DAYLIGHT
BEGIN:STANDARD
TZOFFSETFROM:+0200
TZOFFSETTO:+0100
TZNAME:CET
DTSTART:20251026T010000
END:STANDARD
BEGIN:DAYLIGHT
TZOFFSETFROM:+0100
TZOFFSETTO:+0200
TZNAME:CEST
DTSTART:20260329T010000
END:DAYLIGHT
BEGIN:STANDARD
TZOFFSETFROM:+0200
TZOFFSETTO:+0100
TZNAME:CET
DTSTART:20261025T010000
END:STANDARD
BEGIN:DAYLIGHT
TZOFFSETFROM:+0100
TZOFFSETTO:+0200
TZNAME:CEST
DTSTART:20270328T010000
END:DAYLIGHT
BEGIN:STANDARD
TZOFFSETFROM:+0200
TZOFFSETTO:+0100
TZNAME:CET
DTSTART:20271031T010000
END:STANDARD
END:VTIMEZONE
BEGIN:VEVENT
DTSTART;TZID=Europe/Berlin:20260728T191500
DTEND;TZID=Europe/Berlin:20260728T201500
DTSTAMP:20260422T120433
CREATED:20240609T164610Z
LAST-MODIFIED:20240609T164610Z
UID:10118-1785266100-1785269700@www.skiclub-weil-am-rhein.de
SUMMARY:Skiclub Fitness
DESCRIPTION:in der Egerhalle mit wechselnden Übungsleitern. \n\n\n        \n			\n	    \n        1. Vorsitzender\n        \n			Felix Wildenberg						                    vorstand1@skiclub-weil-am-rhein.de
URL:https://www.skiclub-weil-am-rhein.de/veranstaltung/skiclub-fitness/2026-07-28/
LOCATION:Egerstraße 1\, Weil am Rhein\, Egerstraße 1\, Weil am Rhein\, 79576\, Deutschland
CATEGORIES:Fitness,Regelmäßige Veranstaltungen
END:VEVENT
BEGIN:VEVENT
DTSTART;TZID=Europe/Berlin:20260730T103000
DTEND;TZID=Europe/Berlin:20260730T150000
DTSTAMP:20260422T120433
CREATED:20260410T085715Z
LAST-MODIFIED:20260410T085718Z
UID:10221-1785407400-1785423600@www.skiclub-weil-am-rhein.de
SUMMARY:Sommerprogramm Senioren
DESCRIPTION:Bummel durch und um Ötlingen\, Einkehr im Inka-Café 12 Uhr.
URL:https://www.skiclub-weil-am-rhein.de/veranstaltung/sommerprogramm-senioren/
CATEGORIES:Programm 2026
ORGANIZER;CN="G%C3%BCnther Scherer":MAILTO:senioren@skiclub-weil-am-rhein.de
END:VEVENT
END:VCALENDAR