BEGIN:VCALENDAR
VERSION:2.0
PRODID:-//Ski-Club Weil am Rhein - ECPv6.15.11//NONSGML v1.0//EN
CALSCALE:GREGORIAN
METHOD:PUBLISH
X-WR-CALNAME:Ski-Club Weil am Rhein
X-ORIGINAL-URL:https://www.skiclub-weil-am-rhein.de
X-WR-CALDESC:Veranstaltungen für Ski-Club Weil am Rhein
REFRESH-INTERVAL;VALUE=DURATION:PT1H
X-Robots-Tag:noindex
X-PUBLISHED-TTL:PT1H
BEGIN:VTIMEZONE
TZID:Europe/Berlin
BEGIN:DAYLIGHT
TZOFFSETFROM:+0100
TZOFFSETTO:+0200
TZNAME:CEST
DTSTART:20250330T010000
END:DAYLIGHT
BEGIN:STANDARD
TZOFFSETFROM:+0200
TZOFFSETTO:+0100
TZNAME:CET
DTSTART:20251026T010000
END:STANDARD
BEGIN:DAYLIGHT
TZOFFSETFROM:+0100
TZOFFSETTO:+0200
TZNAME:CEST
DTSTART:20260329T010000
END:DAYLIGHT
BEGIN:STANDARD
TZOFFSETFROM:+0200
TZOFFSETTO:+0100
TZNAME:CET
DTSTART:20261025T010000
END:STANDARD
BEGIN:DAYLIGHT
TZOFFSETFROM:+0100
TZOFFSETTO:+0200
TZNAME:CEST
DTSTART:20270328T010000
END:DAYLIGHT
BEGIN:STANDARD
TZOFFSETFROM:+0200
TZOFFSETTO:+0100
TZNAME:CET
DTSTART:20271031T010000
END:STANDARD
END:VTIMEZONE
BEGIN:VEVENT
DTSTART;TZID=Europe/Berlin:20260505T191500
DTEND;TZID=Europe/Berlin:20260505T201500
DTSTAMP:20260420T004111
CREATED:20240609T164610Z
LAST-MODIFIED:20251221T112623Z
UID:10108-1778008500-1778012100@www.skiclub-weil-am-rhein.de
SUMMARY:Skiclub Fitness
DESCRIPTION:in der Egerhalle mit wechselnden Übungsleitern. \n\n\n        \n			\n	    \n        1. Vorsitzender\n        \n			Felix Wildenberg						                    vorstand1@skiclub-weil-am-rhein.de
URL:https://www.skiclub-weil-am-rhein.de/veranstaltung/skiclub-fitness/2026-05-05/
LOCATION:Egerstraße 1\, Weil am Rhein\, Egerstraße 1\, Weil am Rhein\, 79576\, Deutschland
CATEGORIES:Fitness,Regelmäßige Veranstaltungen
END:VEVENT
BEGIN:VEVENT
DTSTART;TZID=Europe/Berlin:20260507T190000
DTEND;TZID=Europe/Berlin:20260507T210000
DTSTAMP:20260420T004111
CREATED:20260401T070032Z
LAST-MODIFIED:20260401T151309Z
UID:10186-1778180400-1778187600@www.skiclub-weil-am-rhein.de
SUMMARY:Mitgliederversammlung 2026
DESCRIPTION:Liebe Mitglieder des Ski-Clubs\, \n\n\n\nwir möchten euch herzlich zu unserer ordentlichen Mitgliederversammlung einladen\, die am Donnerstag\, dem 07. Mai 2026 ab 19 Uhr im Petrus-Saal im Gemeindehaus St. Peter und Paul\, Hans-Carossa-Str. 4\, 79576 Weil am Rhein stattfinden wird. \n\n\n\nEuer Vorstandsteam
URL:https://www.skiclub-weil-am-rhein.de/veranstaltung/mitgliederversammlung-2/
CATEGORIES:Programm 2026
END:VEVENT
END:VCALENDAR