BEGIN:VCALENDAR
VERSION:2.0
PRODID:-//Ski-Club Weil am Rhein - ECPv6.15.11//NONSGML v1.0//EN
CALSCALE:GREGORIAN
METHOD:PUBLISH
X-ORIGINAL-URL:https://www.skiclub-weil-am-rhein.de
X-WR-CALDESC:Veranstaltungen für Ski-Club Weil am Rhein
REFRESH-INTERVAL;VALUE=DURATION:PT1H
X-Robots-Tag:noindex
X-PUBLISHED-TTL:PT1H
BEGIN:VTIMEZONE
TZID:Europe/Berlin
BEGIN:DAYLIGHT
TZOFFSETFROM:+0100
TZOFFSETTO:+0200
TZNAME:CEST
DTSTART:20250330T010000
END:DAYLIGHT
BEGIN:STANDARD
TZOFFSETFROM:+0200
TZOFFSETTO:+0100
TZNAME:CET
DTSTART:20251026T010000
END:STANDARD
BEGIN:DAYLIGHT
TZOFFSETFROM:+0100
TZOFFSETTO:+0200
TZNAME:CEST
DTSTART:20260329T010000
END:DAYLIGHT
BEGIN:STANDARD
TZOFFSETFROM:+0200
TZOFFSETTO:+0100
TZNAME:CET
DTSTART:20261025T010000
END:STANDARD
BEGIN:DAYLIGHT
TZOFFSETFROM:+0100
TZOFFSETTO:+0200
TZNAME:CEST
DTSTART:20270328T010000
END:DAYLIGHT
BEGIN:STANDARD
TZOFFSETFROM:+0200
TZOFFSETTO:+0100
TZNAME:CET
DTSTART:20271031T010000
END:STANDARD
END:VTIMEZONE
BEGIN:VEVENT
DTSTART;TZID=Europe/Berlin:20260421T191500
DTEND;TZID=Europe/Berlin:20260421T201500
DTSTAMP:20260419T212000
CREATED:20240609T164610Z
LAST-MODIFIED:20251221T112623Z
UID:10106-1776798900-1776802500@www.skiclub-weil-am-rhein.de
SUMMARY:Skiclub Fitness
DESCRIPTION:in der Egerhalle mit wechselnden Übungsleitern. \n\n\n        \n			\n	    \n        1. Vorsitzender\n        \n			Felix Wildenberg						                    vorstand1@skiclub-weil-am-rhein.de
URL:https://www.skiclub-weil-am-rhein.de/veranstaltung/skiclub-fitness/2026-04-21/
LOCATION:Egerstraße 1\, Weil am Rhein\, Egerstraße 1\, Weil am Rhein\, 79576\, Deutschland
CATEGORIES:Fitness,Regelmäßige Veranstaltungen
END:VEVENT
BEGIN:VEVENT
DTSTART;TZID=Europe/Berlin:20260423T143000
DTEND;TZID=Europe/Berlin:20260423T210000
DTSTAMP:20260419T212000
CREATED:20240609T170227Z
LAST-MODIFIED:20260410T085054Z
UID:10157-1776954600-1776978000@www.skiclub-weil-am-rhein.de
SUMMARY:Hock Skisenioren
DESCRIPTION:traditionsgemäß führen wir unseren Frühjahrbummel von und zur Soderstraußi am Donnerstag\, 23. April durch. Dadurch entfällt der Hock\, der sonst am dritten Donnerstag\, am 16. April stattgefunden hätte. \n\n\n\nWir treffen uns dazu um 14:30 Uhr zu Fahrgemeinschaften am Friedhof in Weil. Direktfahrer treffen sich um 15:00 Uhr an der Soderstraußi zum Start des Bummels. Um 16:00 Uhr treffen wir uns in der Soderstraußi zum gemütlichen Beisammensein. Offiziell öffnet die Straußi erst um 16:30 Uhr\, man kann aber bereits um 16:00 Uhr rein. Gäste und Freunde sind herzlich mit eingeladen. \n\n\n\nBitte meldet Euch bei mir an wegen der Organisation von Fahrgemeinschaften.  \n\n\n\n20 Plätze sind sind für uns in der Soderstraußi in Eimeldingen reserviert.  \n\n\n\nBitte auch eine kurze Information bis zum 30. April\, wer vor dem Hock am 21. Mai um 16:30 Uhr mit zur Führung im Schlössli dabei ist. Bei geringer Beteiligung entfällt die Führung im Schlössli. \n\n\n\n\n        \n			\n	    \n        Ansprechpartner für Seniorenbelange\n        \n			Günther Scherer						                    senioren@skiclub-weil-am-rhein.de
URL:https://www.skiclub-weil-am-rhein.de/veranstaltung/mitglieder-stammtisch-2024-12-19-2026-04-16/
LOCATION:Chläbi\, Eisenbahnstrasse 9\, Weil am Rhein\, 79576\, Deutschland
CATEGORIES:Regelmäßige Veranstaltungen,Stammtisch
END:VEVENT
BEGIN:VEVENT
DTSTART;TZID=Europe/Berlin:20260425T180000
DTEND;TZID=Europe/Berlin:20260425T220000
DTSTAMP:20260419T212000
CREATED:20260401T175711Z
LAST-MODIFIED:20260401T180039Z
UID:10209-1777140000-1777154400@www.skiclub-weil-am-rhein.de
SUMMARY:Skischule Helfer-Event
DESCRIPTION:Alle Ski- und Snowboard-LehrerInnen und -Helfer der diesjährigen Saison sind zu einem Bowling-Abend eingeladen.
URL:https://www.skiclub-weil-am-rhein.de/veranstaltung/skischule-helfer-event/
CATEGORIES:Programm 2025,Programm 2026
ORGANIZER;CN="Stefanie Hamm":MAILTO:skischulleiter@skiclub-weil-am-rhein.de
END:VEVENT
END:VCALENDAR