BEGIN:VCALENDAR
VERSION:2.0
PRODID:-//Ski-Club Weil am Rhein - ECPv6.15.11//NONSGML v1.0//EN
CALSCALE:GREGORIAN
METHOD:PUBLISH
X-WR-CALNAME:Ski-Club Weil am Rhein
X-ORIGINAL-URL:https://www.skiclub-weil-am-rhein.de
X-WR-CALDESC:Veranstaltungen für Ski-Club Weil am Rhein
REFRESH-INTERVAL;VALUE=DURATION:PT1H
X-Robots-Tag:noindex
X-PUBLISHED-TTL:PT1H
BEGIN:VTIMEZONE
TZID:Europe/Berlin
BEGIN:DAYLIGHT
TZOFFSETFROM:+0100
TZOFFSETTO:+0200
TZNAME:CEST
DTSTART:20250330T010000
END:DAYLIGHT
BEGIN:STANDARD
TZOFFSETFROM:+0200
TZOFFSETTO:+0100
TZNAME:CET
DTSTART:20251026T010000
END:STANDARD
BEGIN:DAYLIGHT
TZOFFSETFROM:+0100
TZOFFSETTO:+0200
TZNAME:CEST
DTSTART:20260329T010000
END:DAYLIGHT
BEGIN:STANDARD
TZOFFSETFROM:+0200
TZOFFSETTO:+0100
TZNAME:CET
DTSTART:20261025T010000
END:STANDARD
BEGIN:DAYLIGHT
TZOFFSETFROM:+0100
TZOFFSETTO:+0200
TZNAME:CEST
DTSTART:20270328T010000
END:DAYLIGHT
BEGIN:STANDARD
TZOFFSETFROM:+0200
TZOFFSETTO:+0100
TZNAME:CET
DTSTART:20271031T010000
END:STANDARD
END:VTIMEZONE
BEGIN:VEVENT
DTSTART;TZID=Europe/Berlin:20260110T093000
DTEND;TZID=Europe/Berlin:20260111T153000
DTSTAMP:20260422T234914
CREATED:20250817T175009Z
LAST-MODIFIED:20251207T083604Z
UID:10020-1768037400-1768145400@www.skiclub-weil-am-rhein.de
SUMMARY:Ski- und Snowboardkurs im Schwarzwald 2026 - Teil 1
DESCRIPTION:Entdecke mit uns den Spaß im Schnee! Wir bieten zwei aufeinander aufbauende Wochenenden für unterschiedliche Könnensstufen an. \n\n\n\n\n\n\n\nKurswochenende 1: Der perfekte Start \n\n\n\n\nDatum: 10. – 11. Januar 2026\n\n\n\nOrt: Muggenbrunn\n\n\n\n\n⛷️ Ski-Kurse \n\n\n\nDieses Wochenende ist ideal für: \n\n\n\n\nEinsteiger\n\n\n\nFortgeschrittene 1 & 2 (Definition siehe unten)\n\n\n\n\n🏂 Snowboard-Kurs \n\n\n\n\nEinsteiger: Perfekt für dich\, wenn du noch keine Erfahrung hast oder die ersten Kurven noch nicht sicher klappen.\n\n\n\n\n\n\n\n\n📌 Unsere Kursstufen (Definitionen) \n\n\n\nZielgruppeLernzieleEinsteigerErste Erfahrungen mit dem Ski/Snowboard sammeln. Step by Step erste Abfahrten bewältigen. Schlepplift fahren.Achtung: Wir bieten keinen Ski-Kindergarten an!Fortgeschrittene 1Abbau der Pflugstellung bis zum parallelen Kurvenfahren mit Driftanteil im flachen Gelände.Fortgeschrittene 2Paralleles Kurvenfahren mit Reduzierung des Driftanteils. Fahren in mittelsteilem Gelände.KönnerGeschnittenes rhythmisches Kurvenfahren.\n\n\n\n \n\n\n\nAnmeldung bis zum 31.12.2025 via Formular unter „Downloads“ unten auf der der Ski-Club-Homepage. Bitte als Scan oder Foto per E-Mail an skischulleiter@skiclub-weil-am-rhein.de senden (nur zusammen mit Zahlungseingang auf dem Ski-Club-Konto gültig). \n\n\n\nKontaktpersonen: Arwen Herder & Skischulleiterin Stefanie Hamm skischulleiter@skiclub-weil-am-rhein.de \n\n\n\nTreffen am Kurstag: 9:30 Uhr am Wasenlift Muggenbrunn mit Liftkarte (wetterbedingte Anpassungen werden vorher auf der Internetseite unter Neuigkeiten bekannt gegeben. Bitte mindestens 30 Minuten Anstehen für die Schlange am Ticketschalter einplanen!). Hier findet die Kurseinteilung statt. Diese erfolgt aufgrund eurer Angaben bei der Anmeldung. Bitte habt Verständnis\, dass es am ersten Kurstag etwas hektisch zugehen kann und eventuell ein Wechsel von einer Kursgruppe zur anderen notwendig sein könnten. \n\n\n\nKurszeiten: 10:00 -12:30 Uhr und 13:15 – 15:30 Uhr\, 45 Minuten Mittagspause am jeweiligen Lift (Selbstverpflegung). \n\n\n\nKurskosten: Der Kurs besteht aus vier Kurstagen. Preise siehe untenstehende Tabelle\, jeweils zuzüglich selbst zu kaufender Liftkarte\, bei wetter- oder schneebedingten Absagen wird tageweise abgerechnet. \n\n\n\nTageKinder & jugendl. Mitglieder (MG) von 5-25[PS1]  JahrenKinder & jugendl. Nichtmitglieder  (NMG) von 5-25 JahrenErw. Mitglieder (MG) ab 26 JahrenErw. Nichtmitglieder (NMG) ab 26 Jahren125 €40 €35 €50 €250 €80 €70 €100 €375 €120 €105 €150 €4100 €160 €140 €200 €\n\n\n\nBitte überweist den Komplettbetrag für vier Kurstage auf das Ski-Club Konto mit der IBAN DE70 6835 1865 0007 0160 09  unter dem Stichwort „Skikurs 2026“. \n\n\n\nBei allen ausgeschriebenen Aktivitäten übernehmen der Ski-Club Weil am Rhein\, sowie die Ausbilder keine Haftung bei Unfällen. Zusätzlicher Versicherungsschutz wird empfohlen und ist Sache der Kursteilnehmer. Ausweis nicht vergessen. Helmpflicht für alle Teilnehmer! Es empfiehlt sich\, den Kindern die Handy-Nummer der Eltern in den Skianzug zu stecken\, damit der Skilehrer die Eltern bei Bedarf (Notfall) anrufen kann. Wenn Eltern ihre Kinder zur Mittagspause abholen\, bitte die Kinder beim Skilehrer ab- und wieder anmelden. \n\n\n\n\n\n\n\nPrivatunterricht (max. 4 Personen) in Todtnauberg sind zu anderen Terminen nach Absprache und Verfügbarkeit möglich. Kurskosten NMG: Tageskurse (4 Stunden) 140 €  oder Halbtageskurs (2 Stunden) 80 €\, jeweils zuzüglich selbst zu kaufender Liftkarte. Mitglieder erhalten 20 % Rabatt auf die Kurskosten. \n\n\n\n\n\n\n\nDiese Ausschreibung könnt ihr hier als PDF herunterladen. \n\n\n\n\n\n\n\nDas Anmeldeformular für die Skikurse findet ihr unter „Downloads“ im Footer unserer Homepage. \n\n\n\nhttps://www.skiclub-weil-am-rhein.de/wp-content/uploads/2025/12/Anmeldeformular-Skikurse-ab-2026.pdf \n\n\n\nDie Anmeldung ist erst mit Eingang des Anmeldeformulars und der Zahlung gültig. \n\n\n\n \n\n\n\n 
URL:https://www.skiclub-weil-am-rhein.de/veranstaltung/ski-und-snowboardkurs-im-schwarzwald-2026-teil-1/
CATEGORIES:Programm 2025,Programm 2026
ORGANIZER;CN="Stefanie Hamm":MAILTO:skischulleiter@skiclub-weil-am-rhein.de
END:VEVENT
END:VCALENDAR