BEGIN:VCALENDAR
VERSION:2.0
PRODID:-//Ski-Club Weil am Rhein - ECPv6.15.11//NONSGML v1.0//EN
CALSCALE:GREGORIAN
METHOD:PUBLISH
X-ORIGINAL-URL:https://www.skiclub-weil-am-rhein.de
X-WR-CALDESC:Veranstaltungen für Ski-Club Weil am Rhein
REFRESH-INTERVAL;VALUE=DURATION:PT1H
X-Robots-Tag:noindex
X-PUBLISHED-TTL:PT1H
BEGIN:VTIMEZONE
TZID:Europe/Berlin
BEGIN:DAYLIGHT
TZOFFSETFROM:+0100
TZOFFSETTO:+0200
TZNAME:CEST
DTSTART:20250330T010000
END:DAYLIGHT
BEGIN:STANDARD
TZOFFSETFROM:+0200
TZOFFSETTO:+0100
TZNAME:CET
DTSTART:20251026T010000
END:STANDARD
BEGIN:DAYLIGHT
TZOFFSETFROM:+0100
TZOFFSETTO:+0200
TZNAME:CEST
DTSTART:20260329T010000
END:DAYLIGHT
BEGIN:STANDARD
TZOFFSETFROM:+0200
TZOFFSETTO:+0100
TZNAME:CET
DTSTART:20261025T010000
END:STANDARD
BEGIN:DAYLIGHT
TZOFFSETFROM:+0100
TZOFFSETTO:+0200
TZNAME:CEST
DTSTART:20270328T010000
END:DAYLIGHT
BEGIN:STANDARD
TZOFFSETFROM:+0200
TZOFFSETTO:+0100
TZNAME:CET
DTSTART:20271031T010000
END:STANDARD
END:VTIMEZONE
BEGIN:VEVENT
DTSTART;TZID=Europe/Berlin:20261006T191500
DTEND;TZID=Europe/Berlin:20261006T201500
DTSTAMP:20260422T133931
CREATED:20240609T164610Z
LAST-MODIFIED:20240609T164610Z
UID:10122-1791314100-1791317700@www.skiclub-weil-am-rhein.de
SUMMARY:Skiclub Fitness
DESCRIPTION:in der Egerhalle mit wechselnden Übungsleitern. \n\n\n        \n			\n	    \n        1. Vorsitzender\n        \n			Felix Wildenberg						                    vorstand1@skiclub-weil-am-rhein.de
URL:https://www.skiclub-weil-am-rhein.de/veranstaltung/skiclub-fitness/2026-10-06/
LOCATION:Egerstraße 1\, Weil am Rhein\, Egerstraße 1\, Weil am Rhein\, 79576\, Deutschland
CATEGORIES:Fitness,Regelmäßige Veranstaltungen
END:VEVENT
BEGIN:VEVENT
DTSTART;TZID=Europe/Berlin:20261013T191500
DTEND;TZID=Europe/Berlin:20261013T201500
DTSTAMP:20260422T133931
CREATED:20240609T164610Z
LAST-MODIFIED:20240609T164610Z
UID:10123-1791918900-1791922500@www.skiclub-weil-am-rhein.de
SUMMARY:Skiclub Fitness
DESCRIPTION:in der Egerhalle mit wechselnden Übungsleitern. \n\n\n        \n			\n	    \n        1. Vorsitzender\n        \n			Felix Wildenberg						                    vorstand1@skiclub-weil-am-rhein.de
URL:https://www.skiclub-weil-am-rhein.de/veranstaltung/skiclub-fitness/2026-10-13/
LOCATION:Egerstraße 1\, Weil am Rhein\, Egerstraße 1\, Weil am Rhein\, 79576\, Deutschland
CATEGORIES:Fitness,Regelmäßige Veranstaltungen
END:VEVENT
BEGIN:VEVENT
DTSTART;TZID=Europe/Berlin:20261015T180000
DTEND;TZID=Europe/Berlin:20261015T210000
DTSTAMP:20260422T133931
CREATED:20240609T170227Z
LAST-MODIFIED:20240609T170227Z
UID:10163-1792087200-1792098000@www.skiclub-weil-am-rhein.de
SUMMARY:Hock Skisenioren
DESCRIPTION:Gemütliches Beisammensein beim monatlichen Stammtisch in der Chläbi \n\n\n\n\n        \n			\n	    \n        Ansprechpartner für Seniorenbelange\n        \n			Günther Scherer						                    senioren@skiclub-weil-am-rhein.de
URL:https://www.skiclub-weil-am-rhein.de/veranstaltung/mitglieder-stammtisch-2024-12-19/2026-10-15/
LOCATION:Chläbi\, Eisenbahnstrasse 9\, Weil am Rhein\, 79576\, Deutschland
CATEGORIES:Regelmäßige Veranstaltungen,Stammtisch
END:VEVENT
BEGIN:VEVENT
DTSTART;TZID=Europe/Berlin:20261016T180000
DTEND;TZID=Europe/Berlin:20261017T130000
DTSTAMP:20260422T133931
CREATED:20260401T071530Z
LAST-MODIFIED:20260401T154322Z
UID:10191-1792173600-1792242000@www.skiclub-weil-am-rhein.de
SUMMARY:Skibörse 2026
DESCRIPTION:Skibörse – eine lange Tradition von unserem Verein für euch. Gemeinsam nachhaltig in die Wintersaison starten: Bei unserer Skibörse bieten wir hochwertige\, gebrauchte Wintersportartikel und Skibekleidung zu fairen Preisen an. Ob kaufen oder verkaufen – im Mittelpunkt stehen Gemeinschaft\, Austausch und der Spaß am Skisport.Wir freuen uns auf euren Besuch! \n\n\n\nAblauf der Skibörse: 📍 Ort: Aula der Realschule Dreiländereck\, Weil am Rhein(neben der Sporthalle\, Egerstraße 3)🧾 Annahme der ArtikelFreitag\, 16. Oktober | 18:00–20:30 Uhr🛍️ VerkaufSamstag\, 17. Oktober | 10:00–13:00 Uhr📦 Abrechnung & Abholung nicht verkaufter WareSamstag\, 17. Oktober | 14:30–16:00 Uhrℹ️ KonditionenFür jeden angelieferten Artikel wird vom Verkäufer eine geringe Gebühr zur Kostendeckung erhobenKäufer zahlen 5 % des KaufpreisesFür die Ware wird keine Haftung übernommenWir behalten uns vor\, zu alte oder beschädigte Artikel nicht anzunehmen
URL:https://www.skiclub-weil-am-rhein.de/veranstaltung/skiboerse-2026/
CATEGORIES:Programm 2026,Programm 2027
END:VEVENT
BEGIN:VEVENT
DTSTART;TZID=Europe/Berlin:20261020T191500
DTEND;TZID=Europe/Berlin:20261020T201500
DTSTAMP:20260422T133931
CREATED:20240609T164610Z
LAST-MODIFIED:20240609T164610Z
UID:10124-1792523700-1792527300@www.skiclub-weil-am-rhein.de
SUMMARY:Skiclub Fitness
DESCRIPTION:in der Egerhalle mit wechselnden Übungsleitern. \n\n\n        \n			\n	    \n        1. Vorsitzender\n        \n			Felix Wildenberg						                    vorstand1@skiclub-weil-am-rhein.de
URL:https://www.skiclub-weil-am-rhein.de/veranstaltung/skiclub-fitness/2026-10-20/
LOCATION:Egerstraße 1\, Weil am Rhein\, Egerstraße 1\, Weil am Rhein\, 79576\, Deutschland
CATEGORIES:Fitness,Regelmäßige Veranstaltungen
END:VEVENT
BEGIN:VEVENT
DTSTART;TZID=Europe/Berlin:20261030T143000
DTEND;TZID=Europe/Berlin:20261101T210000
DTSTAMP:20260422T133931
CREATED:20260401T071229Z
LAST-MODIFIED:20260401T175359Z
UID:10188-1793370600-1793566800@www.skiclub-weil-am-rhein.de
SUMMARY:Gletscher-Jugendtraining 2026
DESCRIPTION:Unser Verein startet gemeinsam in die Wintersaison: Beim Gletscher‑Jugendtraining arbeiten wir zusammen an Technik\, Fahrstil und sportlicher Weiterentwicklung – begleitet von unseren Trainern und getragen vom starken Miteinander im Verein.Ein intensives Wochenende für Jugendliche und junge Erwachsene\, ergänzt durch gemeinsames Skifahren und Vereinsleben.Wir gehen auch dieses Jahr wieder auf den Pitztaler Gletscher.  \n\n\n\nWeitere Informationen folgen.
URL:https://www.skiclub-weil-am-rhein.de/veranstaltung/gletscher-jugendtraining/
CATEGORIES:Programm 2026,Programm 2027
END:VEVENT
END:VCALENDAR