BEGIN:VCALENDAR
VERSION:2.0
PRODID:-//Ski-Club Weil am Rhein - ECPv6.15.11//NONSGML v1.0//EN
CALSCALE:GREGORIAN
METHOD:PUBLISH
X-WR-CALNAME:Ski-Club Weil am Rhein
X-ORIGINAL-URL:https://www.skiclub-weil-am-rhein.de
X-WR-CALDESC:Veranstaltungen für Ski-Club Weil am Rhein
REFRESH-INTERVAL;VALUE=DURATION:PT1H
X-Robots-Tag:noindex
X-PUBLISHED-TTL:PT1H
BEGIN:VTIMEZONE
TZID:Europe/Berlin
BEGIN:DAYLIGHT
TZOFFSETFROM:+0100
TZOFFSETTO:+0200
TZNAME:CEST
DTSTART:20250330T010000
END:DAYLIGHT
BEGIN:STANDARD
TZOFFSETFROM:+0200
TZOFFSETTO:+0100
TZNAME:CET
DTSTART:20251026T010000
END:STANDARD
BEGIN:DAYLIGHT
TZOFFSETFROM:+0100
TZOFFSETTO:+0200
TZNAME:CEST
DTSTART:20260329T010000
END:DAYLIGHT
BEGIN:STANDARD
TZOFFSETFROM:+0200
TZOFFSETTO:+0100
TZNAME:CET
DTSTART:20261025T010000
END:STANDARD
BEGIN:DAYLIGHT
TZOFFSETFROM:+0100
TZOFFSETTO:+0200
TZNAME:CEST
DTSTART:20270328T010000
END:DAYLIGHT
BEGIN:STANDARD
TZOFFSETFROM:+0200
TZOFFSETTO:+0100
TZNAME:CET
DTSTART:20271031T010000
END:STANDARD
END:VTIMEZONE
BEGIN:VEVENT
DTSTART;TZID=Europe/Berlin:20260808T170000
DTEND;TZID=Europe/Berlin:20260808T220000
DTSTAMP:20260422T105057
CREATED:20260419T143325Z
LAST-MODIFIED:20260419T143328Z
UID:10234-1786208400-1786226400@www.skiclub-weil-am-rhein.de
SUMMARY:SCW Sommerfest 2026
DESCRIPTION:Der Skiclub lädt herzlich zum Sommerfest 2026 ein!Am Samstag\, den 8. August 2026\, möchten wir mit euch allen einen gemütlichen Sommerabend in schöner Umgebung verbringen. \n\n\n\n📅 Datum: Samstag\, 08.08.2026🕔 Beginn: ab 17:00 Uhr📍 Ort: Waldspielplatz Schallbach🎉 Teilnehmer: alle Mitglieder des Skiclubs \n\n\n\nFür das leibliche Wohl ist gesorgt:🔥 Es wird gegrillt\, passende Getränke stellen wir bereit.🥗 Salatspenden sowie Desserts oder Kuchen sind herzlich willkommen und tragen zu einem bunten Buffet bei.💶 Die Getränke werden über eine freiwillige Spendenkasse abgerechnet. \n\n\n\nFreut euch auf einen entspannten Abend mit guten Gesprächen\, leckerem Essen und geselligem Beisammensein – ideal für Groß und Klein. \n\n\n\nWir freuen uns auf zahlreiches Erscheinen und ein schönes Sommerfest mit euch!
URL:https://www.skiclub-weil-am-rhein.de/veranstaltung/scw-sommerfest-2026/
CATEGORIES:Programm 2026
ORGANIZER;CN="Felix Wildenberg":MAILTO:vorstand1@skiclub-weil-am-rhein.de
END:VEVENT
BEGIN:VEVENT
DTSTART;TZID=Europe/Berlin:20260813T130000
DTEND;TZID=Europe/Berlin:20260813T200000
DTSTAMP:20260422T105057
CREATED:20260410T090807Z
LAST-MODIFIED:20260410T090810Z
UID:10223-1786626000-1786651200@www.skiclub-weil-am-rhein.de
SUMMARY:Sommerprogramm Senioren
DESCRIPTION:Nachmittags\, Bummel mit Erika Marquard am Tüllinger entlang zum Bammerthüsli mit Einkehr im Alpina Beizli
URL:https://www.skiclub-weil-am-rhein.de/veranstaltung/sommerprogramm-senioren-2/
CATEGORIES:Programm 2026
ORGANIZER;CN="G%C3%BCnther Scherer":MAILTO:senioren@skiclub-weil-am-rhein.de
END:VEVENT
BEGIN:VEVENT
DTSTART;TZID=Europe/Berlin:20260820T180000
DTEND;TZID=Europe/Berlin:20260820T210000
DTSTAMP:20260422T105057
CREATED:20240609T170227Z
LAST-MODIFIED:20240609T170227Z
UID:10161-1787248800-1787259600@www.skiclub-weil-am-rhein.de
SUMMARY:Hock Skisenioren
DESCRIPTION:Gemütliches Beisammensein beim monatlichen Stammtisch in der Chläbi \n\n\n\n\n        \n			\n	    \n        Ansprechpartner für Seniorenbelange\n        \n			Günther Scherer						                    senioren@skiclub-weil-am-rhein.de
URL:https://www.skiclub-weil-am-rhein.de/veranstaltung/mitglieder-stammtisch-2024-12-19/2026-08-20/
LOCATION:Chläbi\, Eisenbahnstrasse 9\, Weil am Rhein\, 79576\, Deutschland
CATEGORIES:Regelmäßige Veranstaltungen,Stammtisch
END:VEVENT
BEGIN:VEVENT
DTSTART;TZID=Europe/Berlin:20260827T103000
DTEND;TZID=Europe/Berlin:20260827T150000
DTSTAMP:20260422T105057
CREATED:20260410T091009Z
LAST-MODIFIED:20260410T091012Z
UID:10225-1787826600-1787842800@www.skiclub-weil-am-rhein.de
SUMMARY:Sommerprogramm Senioren
DESCRIPTION:Bummel durch die langen Erlen mit Einkehr in der Schliessi an der Wiese um 12 Uhr
URL:https://www.skiclub-weil-am-rhein.de/veranstaltung/sommerprogramm-senioren-3/
CATEGORIES:Programm 2026
ORGANIZER;CN="G%C3%BCnther Scherer":MAILTO:senioren@skiclub-weil-am-rhein.de
END:VEVENT
END:VCALENDAR