BEGIN:VCALENDAR
VERSION:2.0
PRODID:-//Ski-Club Weil am Rhein - ECPv6.15.11//NONSGML v1.0//EN
CALSCALE:GREGORIAN
METHOD:PUBLISH
X-WR-CALNAME:Ski-Club Weil am Rhein
X-ORIGINAL-URL:https://www.skiclub-weil-am-rhein.de
X-WR-CALDESC:Veranstaltungen für Ski-Club Weil am Rhein
REFRESH-INTERVAL;VALUE=DURATION:PT1H
X-Robots-Tag:noindex
X-PUBLISHED-TTL:PT1H
BEGIN:VTIMEZONE
TZID:Europe/Berlin
BEGIN:DAYLIGHT
TZOFFSETFROM:+0100
TZOFFSETTO:+0200
TZNAME:CEST
DTSTART:20250330T010000
END:DAYLIGHT
BEGIN:STANDARD
TZOFFSETFROM:+0200
TZOFFSETTO:+0100
TZNAME:CET
DTSTART:20251026T010000
END:STANDARD
BEGIN:DAYLIGHT
TZOFFSETFROM:+0100
TZOFFSETTO:+0200
TZNAME:CEST
DTSTART:20260329T010000
END:DAYLIGHT
BEGIN:STANDARD
TZOFFSETFROM:+0200
TZOFFSETTO:+0100
TZNAME:CET
DTSTART:20261025T010000
END:STANDARD
BEGIN:DAYLIGHT
TZOFFSETFROM:+0100
TZOFFSETTO:+0200
TZNAME:CEST
DTSTART:20270328T010000
END:DAYLIGHT
BEGIN:STANDARD
TZOFFSETFROM:+0200
TZOFFSETTO:+0100
TZNAME:CET
DTSTART:20271031T010000
END:STANDARD
END:VTIMEZONE
BEGIN:VEVENT
DTSTART;TZID=Europe/Berlin:20260609T191500
DTEND;TZID=Europe/Berlin:20260609T201500
DTSTAMP:20260420T041213
CREATED:20240609T164610Z
LAST-MODIFIED:20251221T112624Z
UID:10111-1781032500-1781036100@www.skiclub-weil-am-rhein.de
SUMMARY:Skiclub Fitness
DESCRIPTION:in der Egerhalle mit wechselnden Übungsleitern. \n\n\n        \n			\n	    \n        1. Vorsitzender\n        \n			Felix Wildenberg						                    vorstand1@skiclub-weil-am-rhein.de
URL:https://www.skiclub-weil-am-rhein.de/veranstaltung/skiclub-fitness/2026-06-09/
LOCATION:Egerstraße 1\, Weil am Rhein\, Egerstraße 1\, Weil am Rhein\, 79576\, Deutschland
CATEGORIES:Fitness,Regelmäßige Veranstaltungen
END:VEVENT
BEGIN:VEVENT
DTSTART;TZID=Europe/Berlin:20260616T191500
DTEND;TZID=Europe/Berlin:20260616T201500
DTSTAMP:20260420T041213
CREATED:20240609T164610Z
LAST-MODIFIED:20251221T112628Z
UID:10112-1781637300-1781640900@www.skiclub-weil-am-rhein.de
SUMMARY:Skiclub Fitness
DESCRIPTION:in der Egerhalle mit wechselnden Übungsleitern. \n\n\n        \n			\n	    \n        1. Vorsitzender\n        \n			Felix Wildenberg						                    vorstand1@skiclub-weil-am-rhein.de
URL:https://www.skiclub-weil-am-rhein.de/veranstaltung/skiclub-fitness/2026-06-16/
LOCATION:Egerstraße 1\, Weil am Rhein\, Egerstraße 1\, Weil am Rhein\, 79576\, Deutschland
CATEGORIES:Fitness,Regelmäßige Veranstaltungen
END:VEVENT
BEGIN:VEVENT
DTSTART;TZID=Europe/Berlin:20260618T180000
DTEND;TZID=Europe/Berlin:20260618T210000
DTSTAMP:20260420T041213
CREATED:20240609T170227Z
LAST-MODIFIED:20240609T170227Z
UID:10159-1781805600-1781816400@www.skiclub-weil-am-rhein.de
SUMMARY:Hock Skisenioren
DESCRIPTION:Gemütliches Beisammensein beim monatlichen Stammtisch in der Chläbi \n\n\n\n\n        \n			\n	    \n        Ansprechpartner für Seniorenbelange\n        \n			Günther Scherer						                    senioren@skiclub-weil-am-rhein.de
URL:https://www.skiclub-weil-am-rhein.de/veranstaltung/mitglieder-stammtisch-2024-12-19/2026-06-18/
LOCATION:Chläbi\, Eisenbahnstrasse 9\, Weil am Rhein\, 79576\, Deutschland
CATEGORIES:Regelmäßige Veranstaltungen,Stammtisch
END:VEVENT
BEGIN:VEVENT
DTSTART;TZID=Europe/Berlin:20260623T191500
DTEND;TZID=Europe/Berlin:20260623T201500
DTSTAMP:20260420T041213
CREATED:20240609T164610Z
LAST-MODIFIED:20251221T112628Z
UID:10113-1782242100-1782245700@www.skiclub-weil-am-rhein.de
SUMMARY:Skiclub Fitness
DESCRIPTION:in der Egerhalle mit wechselnden Übungsleitern. \n\n\n        \n			\n	    \n        1. Vorsitzender\n        \n			Felix Wildenberg						                    vorstand1@skiclub-weil-am-rhein.de
URL:https://www.skiclub-weil-am-rhein.de/veranstaltung/skiclub-fitness/2026-06-23/
LOCATION:Egerstraße 1\, Weil am Rhein\, Egerstraße 1\, Weil am Rhein\, 79576\, Deutschland
CATEGORIES:Fitness,Regelmäßige Veranstaltungen
END:VEVENT
BEGIN:VEVENT
DTSTART;TZID=Europe/Berlin:20260627T130000
DTEND;TZID=Europe/Berlin:20260627T190000
DTSTAMP:20260420T041213
CREATED:20260419T141737Z
LAST-MODIFIED:20260419T143722Z
UID:10230-1782565200-1782586800@www.skiclub-weil-am-rhein.de
SUMMARY:Jugend Kanutour 2026
DESCRIPTION:Winter kann jeder – wir vom Skiclub können auch Sommer! 😄Komm mit uns aufs Wasser und erlebe einen actionreichen Tag mit der Jugend! \n\n\n\n📍 Strecke: Von Murg nach Schwörstadt (ca. 15 km flussabwärts)⏱ Dauer: ca. 3–4 Stunden inkl. Einweisung👥 Alter: 12–17 Jahre (nach oben offen)👨‍👩‍👧‍👦 Gruppe: 15–30 PersonenVeranstalter: Hochrhein-Kanu\, Murg🕒 Uhrzeit: Infos folgen🥤 Mitbringen: gute Laune\, für Getränke & Snacks sorgen wir💰 Kosten: ca. 20 € pro Person🚗 Anfahrt: gemeinsame Fahrgemeinschaften (Organisation folgt)👉 Der Termin ist bereits für unseren Skiclub reserviert – also schnell anmelden und dabei sein!Wir freuen uns auf einen coolen Tag mit euch – mal ohne Ski\, dafür mit Paddel! 🌊
URL:https://www.skiclub-weil-am-rhein.de/veranstaltung/jugend-kanutour-2026/
CATEGORIES:Programm 2026
ORGANIZER;CN="Fabienne Jost":MAILTO:jugend@skiclub-weil-am-rhein.de
END:VEVENT
BEGIN:VEVENT
DTSTART;TZID=Europe/Berlin:20260630T191500
DTEND;TZID=Europe/Berlin:20260630T201500
DTSTAMP:20260420T041213
CREATED:20240609T164610Z
LAST-MODIFIED:20251221T112629Z
UID:10114-1782846900-1782850500@www.skiclub-weil-am-rhein.de
SUMMARY:Skiclub Fitness
DESCRIPTION:in der Egerhalle mit wechselnden Übungsleitern. \n\n\n        \n			\n	    \n        1. Vorsitzender\n        \n			Felix Wildenberg						                    vorstand1@skiclub-weil-am-rhein.de
URL:https://www.skiclub-weil-am-rhein.de/veranstaltung/skiclub-fitness/2026-06-30/
LOCATION:Egerstraße 1\, Weil am Rhein\, Egerstraße 1\, Weil am Rhein\, 79576\, Deutschland
CATEGORIES:Fitness,Regelmäßige Veranstaltungen
END:VEVENT
END:VCALENDAR